BEGIN:VCALENDAR
VERSION:2.0
PRODID:-//Fairford Primary School - ECPv6.15.20//NONSGML v1.0//EN
CALSCALE:GREGORIAN
METHOD:PUBLISH
X-WR-CALNAME:Fairford Primary School
X-ORIGINAL-URL:https://fairford.gloucs.sch.uk
X-WR-CALDESC:Events for Fairford Primary School
REFRESH-INTERVAL;VALUE=DURATION:PT1H
X-Robots-Tag:noindex
X-PUBLISHED-TTL:PT1H
BEGIN:VTIMEZONE
TZID:Europe/London
BEGIN:DAYLIGHT
TZOFFSETFROM:+0000
TZOFFSETTO:+0100
TZNAME:BST
DTSTART:20230326T010000
END:DAYLIGHT
BEGIN:STANDARD
TZOFFSETFROM:+0100
TZOFFSETTO:+0000
TZNAME:GMT
DTSTART:20231029T010000
END:STANDARD
BEGIN:DAYLIGHT
TZOFFSETFROM:+0000
TZOFFSETTO:+0100
TZNAME:BST
DTSTART:20240331T010000
END:DAYLIGHT
BEGIN:STANDARD
TZOFFSETFROM:+0100
TZOFFSETTO:+0000
TZNAME:GMT
DTSTART:20241027T010000
END:STANDARD
BEGIN:DAYLIGHT
TZOFFSETFROM:+0000
TZOFFSETTO:+0100
TZNAME:BST
DTSTART:20250330T010000
END:DAYLIGHT
BEGIN:STANDARD
TZOFFSETFROM:+0100
TZOFFSETTO:+0000
TZNAME:GMT
DTSTART:20251026T010000
END:STANDARD
END:VTIMEZONE
BEGIN:VEVENT
DTSTART;TZID=Europe/London:20240705T150000
DTEND;TZID=Europe/London:20240705T170000
DTSTAMP:20260424T105225
CREATED:20240611T124129Z
LAST-MODIFIED:20240611T124129Z
UID:2744-1720191600-1720198800@fairford.gloucs.sch.uk
SUMMARY:Event title
DESCRIPTION:Event details
URL:https://fairford.gloucs.sch.uk/event/event-title/
CATEGORIES:School Events
ATTACH;FMTTYPE=image/jpeg:https://fairford.gloucs.sch.uk/wp-content/uploads/2023/12/IMG_6051.jpg
END:VEVENT
BEGIN:VEVENT
DTSTART;VALUE=DATE:20240722
DTEND;VALUE=DATE:20240723
DTSTAMP:20260424T105225
CREATED:20231110T123200Z
LAST-MODIFIED:20231110T123200Z
UID:1203-1721606400-1721692799@fairford.gloucs.sch.uk
SUMMARY:Inset Day
DESCRIPTION:
URL:https://fairford.gloucs.sch.uk/event/inset-day-2/
CATEGORIES:Inset Days
END:VEVENT
BEGIN:VEVENT
DTSTART;VALUE=DATE:20240723
DTEND;VALUE=DATE:20240824
DTSTAMP:20260424T105225
CREATED:20231110T122422Z
LAST-MODIFIED:20231110T122422Z
UID:1183-1721692800-1724457599@fairford.gloucs.sch.uk
SUMMARY:School Holiday
DESCRIPTION:
URL:https://fairford.gloucs.sch.uk/event/school-holiday-8/
CATEGORIES:School Holidays
END:VEVENT
END:VCALENDAR