BEGIN:VCALENDAR
VERSION:2.0
PRODID:-//Fairford Primary School - ECPv6.15.20//NONSGML v1.0//EN
CALSCALE:GREGORIAN
METHOD:PUBLISH
X-ORIGINAL-URL:https://fairford.gloucs.sch.uk
X-WR-CALDESC:Events for Fairford Primary School
REFRESH-INTERVAL;VALUE=DURATION:PT1H
X-Robots-Tag:noindex
X-PUBLISHED-TTL:PT1H
BEGIN:VTIMEZONE
TZID:Europe/London
BEGIN:DAYLIGHT
TZOFFSETFROM:+0000
TZOFFSETTO:+0100
TZNAME:BST
DTSTART:20220327T010000
END:DAYLIGHT
BEGIN:STANDARD
TZOFFSETFROM:+0100
TZOFFSETTO:+0000
TZNAME:GMT
DTSTART:20221030T010000
END:STANDARD
BEGIN:DAYLIGHT
TZOFFSETFROM:+0000
TZOFFSETTO:+0100
TZNAME:BST
DTSTART:20230326T010000
END:DAYLIGHT
BEGIN:STANDARD
TZOFFSETFROM:+0100
TZOFFSETTO:+0000
TZNAME:GMT
DTSTART:20231029T010000
END:STANDARD
BEGIN:DAYLIGHT
TZOFFSETFROM:+0000
TZOFFSETTO:+0100
TZNAME:BST
DTSTART:20240331T010000
END:DAYLIGHT
BEGIN:STANDARD
TZOFFSETFROM:+0100
TZOFFSETTO:+0000
TZNAME:GMT
DTSTART:20241027T010000
END:STANDARD
BEGIN:DAYLIGHT
TZOFFSETFROM:+0000
TZOFFSETTO:+0100
TZNAME:BST
DTSTART:20250330T010000
END:DAYLIGHT
BEGIN:STANDARD
TZOFFSETFROM:+0100
TZOFFSETTO:+0000
TZNAME:GMT
DTSTART:20251026T010000
END:STANDARD
BEGIN:DAYLIGHT
TZOFFSETFROM:+0000
TZOFFSETTO:+0100
TZNAME:BST
DTSTART:20260329T010000
END:DAYLIGHT
BEGIN:STANDARD
TZOFFSETFROM:+0100
TZOFFSETTO:+0000
TZNAME:GMT
DTSTART:20261025T010000
END:STANDARD
END:VTIMEZONE
BEGIN:VEVENT
DTSTART;VALUE=DATE:20250825
DTEND;VALUE=DATE:20250826
DTSTAMP:20260422T095808
CREATED:20231110T133452Z
LAST-MODIFIED:20231110T133452Z
UID:1275-1756080000-1756166399@fairford.gloucs.sch.uk
SUMMARY:Bank Holiday
DESCRIPTION:
URL:https://fairford.gloucs.sch.uk/event/bank-holiday-14/
CATEGORIES:Bank Holidays
END:VEVENT
BEGIN:VEVENT
DTSTART;VALUE=DATE:20250526
DTEND;VALUE=DATE:20250527
DTSTAMP:20260422T095808
CREATED:20231110T133427Z
LAST-MODIFIED:20231110T133427Z
UID:1273-1748217600-1748303999@fairford.gloucs.sch.uk
SUMMARY:Bank Holiday
DESCRIPTION:
URL:https://fairford.gloucs.sch.uk/event/bank-holiday-13/
CATEGORIES:Bank Holidays
END:VEVENT
BEGIN:VEVENT
DTSTART;VALUE=DATE:20250505
DTEND;VALUE=DATE:20250506
DTSTAMP:20260422T095808
CREATED:20231110T133359Z
LAST-MODIFIED:20231110T133359Z
UID:1271-1746403200-1746489599@fairford.gloucs.sch.uk
SUMMARY:Bank Holiday
DESCRIPTION:
URL:https://fairford.gloucs.sch.uk/event/bank-holiday-12/
CATEGORIES:Bank Holidays
END:VEVENT
BEGIN:VEVENT
DTSTART;VALUE=DATE:20250421
DTEND;VALUE=DATE:20250422
DTSTAMP:20260422T095808
CREATED:20231110T133335Z
LAST-MODIFIED:20231110T133335Z
UID:1269-1745193600-1745279999@fairford.gloucs.sch.uk
SUMMARY:Bank Holiday
DESCRIPTION:
URL:https://fairford.gloucs.sch.uk/event/bank-holiday-11/
CATEGORIES:Bank Holidays
END:VEVENT
BEGIN:VEVENT
DTSTART;VALUE=DATE:20250418
DTEND;VALUE=DATE:20250419
DTSTAMP:20260422T095808
CREATED:20231110T133316Z
LAST-MODIFIED:20231110T133316Z
UID:1261-1744934400-1745020799@fairford.gloucs.sch.uk
SUMMARY:Bank Holiday
DESCRIPTION:
URL:https://fairford.gloucs.sch.uk/event/bank-holiday-10/
CATEGORIES:Bank Holidays
END:VEVENT
BEGIN:VEVENT
DTSTART;VALUE=DATE:20250101
DTEND;VALUE=DATE:20250102
DTSTAMP:20260422T095808
CREATED:20231110T133238Z
LAST-MODIFIED:20231110T133238Z
UID:1259-1735689600-1735775999@fairford.gloucs.sch.uk
SUMMARY:Bank Holiday
DESCRIPTION:
URL:https://fairford.gloucs.sch.uk/event/bank-holiday-9/
CATEGORIES:Bank Holidays
END:VEVENT
BEGIN:VEVENT
DTSTART;VALUE=DATE:20241225
DTEND;VALUE=DATE:20241227
DTSTAMP:20260422T095808
CREATED:20231110T133219Z
LAST-MODIFIED:20231110T133219Z
UID:1257-1735084800-1735257599@fairford.gloucs.sch.uk
SUMMARY:Bank Holiday
DESCRIPTION:
URL:https://fairford.gloucs.sch.uk/event/bank-holiday-8/
CATEGORIES:Bank Holidays
END:VEVENT
BEGIN:VEVENT
DTSTART;VALUE=DATE:20240826
DTEND;VALUE=DATE:20240827
DTSTAMP:20260422T095808
CREATED:20231110T123048Z
LAST-MODIFIED:20231110T123048Z
UID:1199-1724630400-1724716799@fairford.gloucs.sch.uk
SUMMARY:Bank Holiday
DESCRIPTION:
URL:https://fairford.gloucs.sch.uk/event/bank-holiday-7/
CATEGORIES:Bank Holidays
END:VEVENT
BEGIN:VEVENT
DTSTART;VALUE=DATE:20240527
DTEND;VALUE=DATE:20240528
DTSTAMP:20260422T095808
CREATED:20231110T123026Z
LAST-MODIFIED:20231110T123026Z
UID:1197-1716768000-1716854399@fairford.gloucs.sch.uk
SUMMARY:Bank Holiday
DESCRIPTION:
URL:https://fairford.gloucs.sch.uk/event/bank-holiday-6/
CATEGORIES:Bank Holidays
END:VEVENT
BEGIN:VEVENT
DTSTART;VALUE=DATE:20240506
DTEND;VALUE=DATE:20240507
DTSTAMP:20260422T095808
CREATED:20231110T122949Z
LAST-MODIFIED:20231110T122949Z
UID:1195-1714953600-1715039999@fairford.gloucs.sch.uk
SUMMARY:Bank Holiday
DESCRIPTION:
URL:https://fairford.gloucs.sch.uk/event/bank-holiday-5/
CATEGORIES:Bank Holidays
END:VEVENT
BEGIN:VEVENT
DTSTART;VALUE=DATE:20240401
DTEND;VALUE=DATE:20240402
DTSTAMP:20260422T095808
CREATED:20231110T122756Z
LAST-MODIFIED:20231110T122756Z
UID:1193-1711929600-1712015999@fairford.gloucs.sch.uk
SUMMARY:Bank Holiday
DESCRIPTION:
URL:https://fairford.gloucs.sch.uk/event/bank-holiday-4/
CATEGORIES:Bank Holidays
END:VEVENT
BEGIN:VEVENT
DTSTART;VALUE=DATE:20240329
DTEND;VALUE=DATE:20240330
DTSTAMP:20260422T095808
CREATED:20231110T122735Z
LAST-MODIFIED:20231110T122735Z
UID:1191-1711670400-1711756799@fairford.gloucs.sch.uk
SUMMARY:Bank Holiday
DESCRIPTION:
URL:https://fairford.gloucs.sch.uk/event/bank-holiday-3/
CATEGORIES:Bank Holidays
END:VEVENT
BEGIN:VEVENT
DTSTART;VALUE=DATE:20240101
DTEND;VALUE=DATE:20240102
DTSTAMP:20260422T095808
CREATED:20231110T122641Z
LAST-MODIFIED:20231110T122904Z
UID:1189-1704067200-1704153599@fairford.gloucs.sch.uk
SUMMARY:Bank Holiday
DESCRIPTION:
URL:https://fairford.gloucs.sch.uk/event/bank-holiday-2/
CATEGORIES:Bank Holidays
END:VEVENT
BEGIN:VEVENT
DTSTART;VALUE=DATE:20231225
DTEND;VALUE=DATE:20231227
DTSTAMP:20260422T095808
CREATED:20231110T122612Z
LAST-MODIFIED:20231110T122840Z
UID:1187-1703462400-1703635199@fairford.gloucs.sch.uk
SUMMARY:Bank Holiday
DESCRIPTION:
URL:https://fairford.gloucs.sch.uk/event/bank-holiday/
CATEGORIES:Bank Holidays
END:VEVENT
END:VCALENDAR