BEGIN:VCALENDAR
VERSION:2.0
PRODID:-//Fairford Primary School - ECPv6.15.20//NONSGML v1.0//EN
CALSCALE:GREGORIAN
METHOD:PUBLISH
X-ORIGINAL-URL:https://fairford.gloucs.sch.uk
X-WR-CALDESC:Events for Fairford Primary School
REFRESH-INTERVAL;VALUE=DURATION:PT1H
X-Robots-Tag:noindex
X-PUBLISHED-TTL:PT1H
BEGIN:VTIMEZONE
TZID:Europe/London
BEGIN:DAYLIGHT
TZOFFSETFROM:+0000
TZOFFSETTO:+0100
TZNAME:BST
DTSTART:20220327T010000
END:DAYLIGHT
BEGIN:STANDARD
TZOFFSETFROM:+0100
TZOFFSETTO:+0000
TZNAME:GMT
DTSTART:20221030T010000
END:STANDARD
BEGIN:DAYLIGHT
TZOFFSETFROM:+0000
TZOFFSETTO:+0100
TZNAME:BST
DTSTART:20230326T010000
END:DAYLIGHT
BEGIN:STANDARD
TZOFFSETFROM:+0100
TZOFFSETTO:+0000
TZNAME:GMT
DTSTART:20231029T010000
END:STANDARD
BEGIN:DAYLIGHT
TZOFFSETFROM:+0000
TZOFFSETTO:+0100
TZNAME:BST
DTSTART:20240331T010000
END:DAYLIGHT
BEGIN:STANDARD
TZOFFSETFROM:+0100
TZOFFSETTO:+0000
TZNAME:GMT
DTSTART:20241027T010000
END:STANDARD
END:VTIMEZONE
BEGIN:VEVENT
DTSTART;TZID=Europe/London:20231106T090000
DTEND;TZID=Europe/London:20231106T090000
DTSTAMP:20260424T165546
CREATED:20231102T115251Z
LAST-MODIFIED:20231103T143309Z
UID:227-1699261200-1699261200@fairford.gloucs.sch.uk
SUMMARY:Bag2School Collection
DESCRIPTION:
URL:https://fairford.gloucs.sch.uk/event/bag2school-collection/
CATEGORIES:School Events
ATTACH;FMTTYPE=image/jpeg:https://fairford.gloucs.sch.uk/wp-content/uploads/2023/11/Elp83DZ2_400x400.jpg
END:VEVENT
BEGIN:VEVENT
DTSTART;TZID=Europe/London:20231106T140000
DTEND;TZID=Europe/London:20231106T150000
DTSTAMP:20260424T165546
CREATED:20231102T115336Z
LAST-MODIFIED:20231103T143309Z
UID:230-1699279200-1699282800@fairford.gloucs.sch.uk
SUMMARY:Reception Open Day
DESCRIPTION:
URL:https://fairford.gloucs.sch.uk/event/reception-open-day/
CATEGORIES:School Events
END:VEVENT
END:VCALENDAR